BEGIN:VCALENDAR
VERSION:2.0
PRODID:-//Lust Liefde Licht - ECPv6.15.20//NONSGML v1.0//EN
CALSCALE:GREGORIAN
METHOD:PUBLISH
X-WR-CALNAME:Lust Liefde Licht
X-ORIGINAL-URL:https://lustliefdelicht.nl
X-WR-CALDESC:Evenementen voor Lust Liefde Licht
REFRESH-INTERVAL;VALUE=DURATION:PT1H
X-Robots-Tag:noindex
X-PUBLISHED-TTL:PT1H
BEGIN:VTIMEZONE
TZID:Europe/Paris
BEGIN:DAYLIGHT
TZOFFSETFROM:+0100
TZOFFSETTO:+0200
TZNAME:CEST
DTSTART:20240331T010000
END:DAYLIGHT
BEGIN:STANDARD
TZOFFSETFROM:+0200
TZOFFSETTO:+0100
TZNAME:CET
DTSTART:20241027T010000
END:STANDARD
BEGIN:DAYLIGHT
TZOFFSETFROM:+0100
TZOFFSETTO:+0200
TZNAME:CEST
DTSTART:20250330T010000
END:DAYLIGHT
BEGIN:STANDARD
TZOFFSETFROM:+0200
TZOFFSETTO:+0100
TZNAME:CET
DTSTART:20251026T010000
END:STANDARD
BEGIN:DAYLIGHT
TZOFFSETFROM:+0100
TZOFFSETTO:+0200
TZNAME:CEST
DTSTART:20260329T010000
END:DAYLIGHT
BEGIN:STANDARD
TZOFFSETFROM:+0200
TZOFFSETTO:+0100
TZNAME:CET
DTSTART:20261025T010000
END:STANDARD
BEGIN:DAYLIGHT
TZOFFSETFROM:+0100
TZOFFSETTO:+0200
TZNAME:CEST
DTSTART:20270328T010000
END:DAYLIGHT
BEGIN:STANDARD
TZOFFSETFROM:+0200
TZOFFSETTO:+0100
TZNAME:CET
DTSTART:20271031T010000
END:STANDARD
END:VTIMEZONE
BEGIN:VEVENT
DTSTART;TZID=Europe/Paris:20251105T140000
DTEND;TZID=Europe/Paris:20251105T173000
DTSTAMP:20260426T055740
CREATED:20251006T055142Z
LAST-MODIFIED:20251031T200418Z
UID:6603-1762351200-1762363800@lustliefdelicht.nl
SUMMARY:Tantra Awakening SPECIAL
DESCRIPTION:Volle Maan Sessie voor Vrouwen\n\n\n\n\n\n\n\nDeze workshop is even gericht op de vrouwen\, de maanbewuste vrouwen welteverstaan.\nWant ik ben nieuwsgierig: merk jij wel eens wat van de Volle Maan? De volgende is alweer over 6 dagen!\n\n\n\n\n\n\nZelf gebruik ik de maancyclus al jaren als bron van inspiratie.\n\n\n\n\n\n\nHet voelt als een magisch leidraad waar ik veel aan heb tijdens mijn processen.\nZodra je cyclisch leert kijken en voelen ga je meer diepte ervaren in het dagelijks leven. Het wordt allemaal een stuk organischer\, meer in verbinding met de natuurlijke flow.\n\n\n\n\n\n\nOok de verbinding met mijn lijf wordt bekrachtigd door Sister Moon.\nHet maakt niet uit in welke fase ik zit in mijn eigen menstruatie cyclus\, ik kan altijd opmerken hoe deze met elkaar verbonden zijn.\n\n\n\n\n\n\nNu ben ik aan het onderzoeken hoe ik de beleving van intimiteit kan afstemmen op de Maan.\nHoe het nog ronder\, zachter\, voller kan allemaal.\n\n\n\n\n\n\nBen je ook nieuwsgierig naar hoe Tantra en de Kracht van Volle Maan samen kunnen werken?\nOp woensdag 5 november om 14:00 faciliteer ik een Tantra Awakening voor Vrouwen.\n\n\n\n\n\n\n\n\n\n\nOver de Awakening:\n\n\n\nGa oefenen\, experimenteren en beleven en ontwaak jouw Tantrische Zelf.\n\n\n\n\n\n\nIn deze sessie reik ik je diverse tantrische oefeningen en rituelen aan:\n✨ Meditatie om alle gedachtestromen wat losser te laten en om je te helpen herinneren aan de essentie van je verlangens.\n✨ Ademwerk om dichter bij je gevoel te komen en meer ontspanning toe te laten.\n✨ Fysieke oefeningen zodat je kunt ervaren hoe jij je nog meer open kunt stellen voor intimiteit en verbinding jouw kracht.\n✨ Verder zal ik je met energiewerk begeleiden om een diepe overgave en een krachtige levensenergie te ervaren.\n\n\n\n\n\n\nEigenlijk is het één mooi ritueel met een zacht welkom en een liefdevolle afronding in het teken van Volle Maan 💞\nInclusief een hartverwarmende cacao drank.- Geschikt voor min 3 en max 4 vrouwen met of zonder (Tantra) ervaring.\n– Gewoon in comfortabele kleding en volledig gericht op je eigen proces.\n– Bijdrage voor deze middag: €95\,-Lees hier meer over de Tantra Awakening.\n\n\n\n\n\n\nMail of WhatsApp mij om je aan te melden.\n\n\n\n\n\n\n\n\n\n\nMet Licht\, Liefde én Lust\,\n\n\n\n\n\n\nNicole
URL:https://lustliefdelicht.nl/event/ta-vm/
LOCATION:Leven in Verbinding\, Benkoelenstraat 4\, Enschede\, Overijssel\, 7541XZ\, Netherlands
ATTACH;FMTTYPE=image/jpeg:https://lustliefdelicht.nl/wp-content/uploads/Event-Pic-6-1.jpg
END:VEVENT
BEGIN:VEVENT
DTSTART;TZID=Europe/Paris:20251122T100000
DTEND;TZID=Europe/Paris:20251122T113000
DTSTAMP:20260426T055740
CREATED:20251004T185256Z
LAST-MODIFIED:20251007T192127Z
UID:6581-1763805600-1763811000@lustliefdelicht.nl
SUMMARY:Fire Flow Focus | Levenskracht Training
DESCRIPTION:Ga van wilskracht naar daadkracht\nDe Levenskracht Training om weer ontspannen thuis te komen bij jezelf. \nLees meer informatie via hier en meld je snel aan\, er zijn maar 6 plekken. \nMet licht\, liefde én lust\nNicole
URL:https://lustliefdelicht.nl/event/fire-flow-focus-levenskracht-training-2/
LOCATION:Leven in Verbinding\, Benkoelenstraat 4\, Enschede\, Overijssel\, 7541XZ\, Netherlands
ATTACH;FMTTYPE=image/jpeg:https://lustliefdelicht.nl/wp-content/uploads/Event-Pic-6.jpg
END:VEVENT
BEGIN:VEVENT
DTSTART;TZID=Europe/Paris:20260129T193000
DTEND;TZID=Europe/Paris:20260129T210000
DTSTAMP:20260426T055740
CREATED:20251004T185459Z
LAST-MODIFIED:20260111T080448Z
UID:6585-1769715000-1769720400@lustliefdelicht.nl
SUMMARY:Fire Flow Focus | Januari
DESCRIPTION:Levenskracht Training voor Vrouwen\nGa van wilskracht naar daadkracht\nDe Levenskracht Training om weer ontspannen thuis te komen bij jezelf. \nLees meer informatie via hier en meld je via de mail of whatsapp aan. \nMet licht\, liefde én lust\nNicole
URL:https://lustliefdelicht.nl/event/fire-flow-focus-levenskracht-training-4/
LOCATION:Overijssel
ATTACH;FMTTYPE=image/png:https://lustliefdelicht.nl/wp-content/uploads/Event-Pic-6-1.png
END:VEVENT
BEGIN:VEVENT
DTSTART;TZID=Europe/Paris:20260214T140000
DTEND;TZID=Europe/Paris:20260214T163000
DTSTAMP:20260426T055740
CREATED:20251004T194419Z
LAST-MODIFIED:20251006T054500Z
UID:6595-1771077600-1771086600@lustliefdelicht.nl
SUMMARY:Tantra Experience | Voor koppels (18-34 jaar)
DESCRIPTION:Samen de kracht van Tantra ontdekken\nOp zaterdag 14 februari organiseren Hugo en Nicole weer een Tantra Experience.\nEen workshop speciaal voor jonge koppels om de basis van Tantrische Intimiteit te ervaren. \nLees meer!\n  \nPRAKTISCH: \nVolledig gekleed.\nMaximaal 3 koppels \nBijdrage: €125\,- \nLocatie in Enschede wordt nog bekend gemaakt. \nAanmelden door te mailen
URL:https://lustliefdelicht.nl/event/tantra-experience-voor-koppels-18-34-jaar/
LOCATION:Overijssel
ATTACH;FMTTYPE=image/jpeg:https://lustliefdelicht.nl/wp-content/uploads/Event-Pic-2-1.jpg
END:VEVENT
BEGIN:VEVENT
DTSTART;TZID=Europe/Paris:20260226T193000
DTEND;TZID=Europe/Paris:20260226T210000
DTSTAMP:20260426T055740
CREATED:20251004T185540Z
LAST-MODIFIED:20260111T080452Z
UID:6587-1772134200-1772139600@lustliefdelicht.nl
SUMMARY:Fire Flow Focus | Februari
DESCRIPTION:Levenskracht Training voor Vrouwen\nGa van wilskracht naar daadkracht\nDe Levenskracht Training om weer ontspannen thuis te komen bij jezelf. \nLees meer informatie via hier en meld je via de mail of whatsapp aan. \nMet licht\, liefde én lust\nNicole
URL:https://lustliefdelicht.nl/event/fire-flow-focus-levenskracht-training-5/
LOCATION:Leven in Verbinding\, Benkoelenstraat 4\, Enschede\, Overijssel\, 7541XZ\, Netherlands
ATTACH;FMTTYPE=image/png:https://lustliefdelicht.nl/wp-content/uploads/Event-Pic-6-1.png
END:VEVENT
BEGIN:VEVENT
DTSTART;TZID=Europe/Paris:20260321T100000
DTEND;TZID=Europe/Paris:20260321T123000
DTSTAMP:20260426T055740
CREATED:20251004T185648Z
LAST-MODIFIED:20260111T080456Z
UID:6589-1774087200-1774096200@lustliefdelicht.nl
SUMMARY:Fire Flow Focus XL | Maart
DESCRIPTION:Levenskracht Training voor Vrouwen\nSpeciale Lente Editie! \nDe Levenskracht Training om weer ontspannen thuis te komen bij jezelf. \nLees meer informatie via hier en meld je via de mail of whatsapp aan. \nMet licht\, liefde én lust\nNicole
URL:https://lustliefdelicht.nl/event/fire-flow-focus-levenskracht-training-6/
LOCATION:Leven in Verbinding\, Benkoelenstraat 4\, Enschede\, Overijssel\, 7541XZ\, Netherlands
ATTACH;FMTTYPE=image/png:https://lustliefdelicht.nl/wp-content/uploads/Event-Pic-6-1.png
END:VEVENT
BEGIN:VEVENT
DTSTART;TZID=Europe/Paris:20260416T193000
DTEND;TZID=Europe/Paris:20260416T210000
DTSTAMP:20260426T055740
CREATED:20260102T145237Z
LAST-MODIFIED:20260111T080501Z
UID:6936-1776367800-1776373200@lustliefdelicht.nl
SUMMARY:Fire Flow Focus | April
DESCRIPTION:Levenskracht Training voor Vrouwen\nGa van wilskracht naar daadkracht\nDe Levenskracht Training om weer ontspannen thuis te komen bij jezelf. \nLees meer informatie via hier en meld je via de mail of whatsapp aan. \nMet licht\, liefde én lust\nNicole
URL:https://lustliefdelicht.nl/event/fire-flow-focus-april-2/
LOCATION:Overijssel
ATTACH;FMTTYPE=image/png:https://lustliefdelicht.nl/wp-content/uploads/Event-Pic-6-1.png
END:VEVENT
BEGIN:VEVENT
DTSTART;TZID=Europe/Paris:20260504T103000
DTEND;TZID=Europe/Paris:20260504T130000
DTSTAMP:20260426T055740
CREATED:20230530T185349Z
LAST-MODIFIED:20260424T135439Z
UID:4454-1777890600-1777899600@lustliefdelicht.nl
SUMMARY:Tantra EROS Experience | Voor Koppels AL
DESCRIPTION:Samen de kracht van Tantra ontdekken\nOp maandag 4 mei is er weer een Tantra EROS Experience.\nEen workshop speciaal voor koppels om de kracht van Tantrische Intimiteit te ervaren. \nLees meer!\n  \nPRAKTISCH: \nVolledig gekleed.\nMaximaal 3 koppels \nBijdrage: €125\,- \nLocatie in Enschede \nAanmelden door te mailen\nLeuk cadeau voor je geliefde! \n \n 
URL:https://lustliefdelicht.nl/event/tantra-experience-voor-koppels/
LOCATION:Leven in Verbinding\, Benkoelenstraat 4\, Enschede\, Overijssel\, 7541XZ\, Netherlands
ATTACH;FMTTYPE=image/jpeg:https://lustliefdelicht.nl/wp-content/uploads/Event-Pic-1-1.jpg
END:VEVENT
BEGIN:VEVENT
DTSTART;TZID=Europe/Paris:20260514T193000
DTEND;TZID=Europe/Paris:20260514T210000
DTSTAMP:20260426T055740
CREATED:20260102T145323Z
LAST-MODIFIED:20260111T080506Z
UID:6938-1778787000-1778792400@lustliefdelicht.nl
SUMMARY:Fire Flow Focus | Mei
DESCRIPTION:Levenskracht Training voor Vrouwen\nGa van wilskracht naar daadkracht\nDe Levenskracht Training om weer ontspannen thuis te komen bij jezelf. \nLees meer informatie via hier en meld je via de mail of whatsapp aan. \nMet licht\, liefde én lust\nNicole
URL:https://lustliefdelicht.nl/event/fire-flow-focus-mei-2/
LOCATION:Overijssel
ATTACH;FMTTYPE=image/png:https://lustliefdelicht.nl/wp-content/uploads/Event-Pic-6-1.png
END:VEVENT
BEGIN:VEVENT
DTSTART;TZID=Europe/Paris:20260524T133000
DTEND;TZID=Europe/Paris:20260524T163000
DTSTAMP:20260426T055740
CREATED:20260315T090249Z
LAST-MODIFIED:20260408T130335Z
UID:7213-1779629400-1779640200@lustliefdelicht.nl
SUMMARY:When God meets Gaia DEEL 1
DESCRIPTION:When God meets Gaia \n\n\n\n\n\n\n\n\n\n\n\n\n\n\n\n\n\n\n\n\n\n\n\n\n\n\n\n\nEen Tantra Tweeluik voor ervaren stellen.\nDe titel zegt het al: wij creëren De Hemel op Aarde.\n\n\n\nDeze uitdagende Tantra workshop gaat over het smelten in de ultieme mannelijke en vrouwelijke energieën.\n\n\nKom samen ervaren hoe bewustwording en belichaming verbonden zijn en geef dit vorm in jullie intieme relatie.\n\nWil jij jouw partner weer in zijn of haar kracht zetten?\n\n\n\n\nDit is een tweedelige Tantra Workshop waarin het vrouwelijke en het mannelijke gevierd wordt.\nDeel 1 staat in het teken van de Man\, deel 2 in het teken van de Vrouw.\n\n\n\nMet diverse tantrische rituelen en oefeningen neem jij jouw geliefde mee op reis.\nJe bent op dat moment de spaceholder van jullie energie en schenkt hem/haar volledig de aandacht.\n\n\n\n2 diepgaande sessies om jullie verbinding te bekrachtigen.\n\n\n\n\nPRAKTISCH:\nData: zondag 24 & 31 mei\nTijden: 13:30 tot 16:30u\n\n\n\nKosten: €350\,- per stel\nMaximaal 3 stellen\n\n\n\nJullie dragen luchtige kleding of een omslagdoek.\nNaaktheid is optioneel.\n\n\n\nAanmelding:\nVooraf is er een videogesprek ter kennismaking met Nicole.\nZoek contact via whatsapp.\n\n\n\n\nLees hier meer informatie: https://lustliefdelicht.nl/tantra-tweeluik/\n\n\n\n\nP.s. deze tweeluik is ook in een privé setting te volgen.\nNog geen ervaring? Kijk dan even bij de Tantra Experience.
URL:https://lustliefdelicht.nl/event/when-god-meets-gaia/
LOCATION:Leven in Verbinding\, Benkoelenstraat 4\, Enschede\, Overijssel\, 7541XZ\, Netherlands
ATTACH;FMTTYPE=image/jpeg:https://lustliefdelicht.nl/wp-content/uploads/Event-Pic-16-1.jpg
END:VEVENT
BEGIN:VEVENT
DTSTART;TZID=Europe/Paris:20260531T133000
DTEND;TZID=Europe/Paris:20260531T163000
DTSTAMP:20260426T055740
CREATED:20260315T090521Z
LAST-MODIFIED:20260316T204209Z
UID:7220-1780234200-1780245000@lustliefdelicht.nl
SUMMARY:When God meets Gaia DEEL 2
DESCRIPTION:When God meets Gaia \n\n\n\n\n\n\n\n\n\n\n\n\n\n\n\n\n\n\n\n\n\n\n\n\n\n\n\n\nEen Tantra Tweeluik voor ervaren stellen.\nDe titel zegt het al: wij creëren De Hemel op Aarde.\n\n\n\nDeze uitdagende Tantra workshop gaat over het smelten in de ultieme mannelijke en vrouwelijke energieën.\n\n\nKom samen ervaren hoe bewustwording en belichaming verbonden zijn en geef dit vorm in jullie intieme relatie.\n\nWil jij jouw partner weer in zijn of haar kracht zetten?\n\n\n\n\nDit is een tweedelige Tantra Workshop waarin het vrouwelijke en het mannelijke gevierd wordt.\nDeel 1 staat in het teken van de Man\, deel 2 in het teken van de Vrouw.\n\n\n\nMet diverse tantrische rituelen en oefeningen neem jij jouw geliefde mee op reis.\nJe bent op dat moment de spaceholder van jullie energie en schenkt hem/haar volledig de aandacht.\n\n\n\n2 diepgaande sessies om jullie verbinding te bekrachtigen.\n\n\n\n\nPRAKTISCH:\nData: zondag 24 & 31 mei\nTijden: 13:30 tot 16:30u\n\n\n\nKosten: €350\,- per stel\nMaximaal 3 stellen\n\n\n\nJullie dragen luchtige kleding of een omslagdoek.\nNaaktheid is optioneel.\n\n\n\nAanmelding:\nVooraf is er een videogesprek ter kennismaking met Nicole.\n\n\n\n\nLees hier meer informatie: https://lustliefdelicht.nl/tantra-tweeluik/\n\n\n\n\nP.s. deze tweeluik is ook in een privé setting te volgen.\nNog geen ervaring? Kijk dan even bij de Tantra Experience.
URL:https://lustliefdelicht.nl/event/when-god-meets-gaia-deel-2/
LOCATION:Leven in Verbinding\, Benkoelenstraat 4\, Enschede\, Overijssel\, 7541XZ\, Netherlands
ATTACH;FMTTYPE=image/jpeg:https://lustliefdelicht.nl/wp-content/uploads/Event-Pic-16-1.jpg
END:VEVENT
BEGIN:VEVENT
DTSTART;TZID=Europe/Paris:20260620T100000
DTEND;TZID=Europe/Paris:20260620T123000
DTSTAMP:20260426T055740
CREATED:20260102T145845Z
LAST-MODIFIED:20260111T080513Z
UID:6940-1781949600-1781958600@lustliefdelicht.nl
SUMMARY:Fire Flow Focus XL | Juni
DESCRIPTION:Levenskracht Training voor Vrouwen\nSpeciale Zomer Editie! \nDe Levenskracht Training om weer ontspannen thuis te komen bij jezelf. \nLees meer informatie via hier en meld je via de mail of whatsapp aan. \nMet licht\, liefde én lust\nNicole
URL:https://lustliefdelicht.nl/event/fire-flow-focus-xl-juni/
LOCATION:Overijssel
ATTACH;FMTTYPE=image/png:https://lustliefdelicht.nl/wp-content/uploads/Event-Pic-6-1.png
END:VEVENT
END:VCALENDAR