BEGIN:VCALENDAR
VERSION:2.0
PRODID:-//Lust Liefde Licht - ECPv6.15.20//NONSGML v1.0//EN
CALSCALE:GREGORIAN
METHOD:PUBLISH
X-WR-CALNAME:Lust Liefde Licht
X-ORIGINAL-URL:https://lustliefdelicht.nl
X-WR-CALDESC:Evenementen voor Lust Liefde Licht
REFRESH-INTERVAL;VALUE=DURATION:PT1H
X-Robots-Tag:noindex
X-PUBLISHED-TTL:PT1H
BEGIN:VTIMEZONE
TZID:Europe/Paris
BEGIN:DAYLIGHT
TZOFFSETFROM:+0100
TZOFFSETTO:+0200
TZNAME:CEST
DTSTART:20250330T010000
END:DAYLIGHT
BEGIN:STANDARD
TZOFFSETFROM:+0200
TZOFFSETTO:+0100
TZNAME:CET
DTSTART:20251026T010000
END:STANDARD
BEGIN:DAYLIGHT
TZOFFSETFROM:+0100
TZOFFSETTO:+0200
TZNAME:CEST
DTSTART:20260329T010000
END:DAYLIGHT
BEGIN:STANDARD
TZOFFSETFROM:+0200
TZOFFSETTO:+0100
TZNAME:CET
DTSTART:20261025T010000
END:STANDARD
BEGIN:DAYLIGHT
TZOFFSETFROM:+0100
TZOFFSETTO:+0200
TZNAME:CEST
DTSTART:20270328T010000
END:DAYLIGHT
BEGIN:STANDARD
TZOFFSETFROM:+0200
TZOFFSETTO:+0100
TZNAME:CET
DTSTART:20271031T010000
END:STANDARD
END:VTIMEZONE
BEGIN:VEVENT
DTSTART;TZID=Europe/Paris:20260514T193000
DTEND;TZID=Europe/Paris:20260514T210000
DTSTAMP:20260426T030836
CREATED:20260102T145323Z
LAST-MODIFIED:20260111T080506Z
UID:6938-1778787000-1778792400@lustliefdelicht.nl
SUMMARY:Fire Flow Focus | Mei
DESCRIPTION:Levenskracht Training voor Vrouwen\nGa van wilskracht naar daadkracht\nDe Levenskracht Training om weer ontspannen thuis te komen bij jezelf. \nLees meer informatie via hier en meld je via de mail of whatsapp aan. \nMet licht\, liefde én lust\nNicole
URL:https://lustliefdelicht.nl/event/fire-flow-focus-mei-2/
LOCATION:Overijssel
ATTACH;FMTTYPE=image/png:https://lustliefdelicht.nl/wp-content/uploads/Event-Pic-6-1.png
END:VEVENT
BEGIN:VEVENT
DTSTART;TZID=Europe/Paris:20260524T133000
DTEND;TZID=Europe/Paris:20260524T163000
DTSTAMP:20260426T030836
CREATED:20260315T090249Z
LAST-MODIFIED:20260408T130335Z
UID:7213-1779629400-1779640200@lustliefdelicht.nl
SUMMARY:When God meets Gaia DEEL 1
DESCRIPTION:When God meets Gaia \n\n\n\n\n\n\n\n\n\n\n\n\n\n\n\n\n\n\n\n\n\n\n\n\n\n\n\n\nEen Tantra Tweeluik voor ervaren stellen.\nDe titel zegt het al: wij creëren De Hemel op Aarde.\n\n\n\nDeze uitdagende Tantra workshop gaat over het smelten in de ultieme mannelijke en vrouwelijke energieën.\n\n\nKom samen ervaren hoe bewustwording en belichaming verbonden zijn en geef dit vorm in jullie intieme relatie.\n\nWil jij jouw partner weer in zijn of haar kracht zetten?\n\n\n\n\nDit is een tweedelige Tantra Workshop waarin het vrouwelijke en het mannelijke gevierd wordt.\nDeel 1 staat in het teken van de Man\, deel 2 in het teken van de Vrouw.\n\n\n\nMet diverse tantrische rituelen en oefeningen neem jij jouw geliefde mee op reis.\nJe bent op dat moment de spaceholder van jullie energie en schenkt hem/haar volledig de aandacht.\n\n\n\n2 diepgaande sessies om jullie verbinding te bekrachtigen.\n\n\n\n\nPRAKTISCH:\nData: zondag 24 & 31 mei\nTijden: 13:30 tot 16:30u\n\n\n\nKosten: €350\,- per stel\nMaximaal 3 stellen\n\n\n\nJullie dragen luchtige kleding of een omslagdoek.\nNaaktheid is optioneel.\n\n\n\nAanmelding:\nVooraf is er een videogesprek ter kennismaking met Nicole.\nZoek contact via whatsapp.\n\n\n\n\nLees hier meer informatie: https://lustliefdelicht.nl/tantra-tweeluik/\n\n\n\n\nP.s. deze tweeluik is ook in een privé setting te volgen.\nNog geen ervaring? Kijk dan even bij de Tantra Experience.
URL:https://lustliefdelicht.nl/event/when-god-meets-gaia/
LOCATION:Leven in Verbinding\, Benkoelenstraat 4\, Enschede\, Overijssel\, 7541XZ\, Netherlands
ATTACH;FMTTYPE=image/jpeg:https://lustliefdelicht.nl/wp-content/uploads/Event-Pic-16-1.jpg
END:VEVENT
BEGIN:VEVENT
DTSTART;TZID=Europe/Paris:20260531T133000
DTEND;TZID=Europe/Paris:20260531T163000
DTSTAMP:20260426T030836
CREATED:20260315T090521Z
LAST-MODIFIED:20260316T204209Z
UID:7220-1780234200-1780245000@lustliefdelicht.nl
SUMMARY:When God meets Gaia DEEL 2
DESCRIPTION:When God meets Gaia \n\n\n\n\n\n\n\n\n\n\n\n\n\n\n\n\n\n\n\n\n\n\n\n\n\n\n\n\nEen Tantra Tweeluik voor ervaren stellen.\nDe titel zegt het al: wij creëren De Hemel op Aarde.\n\n\n\nDeze uitdagende Tantra workshop gaat over het smelten in de ultieme mannelijke en vrouwelijke energieën.\n\n\nKom samen ervaren hoe bewustwording en belichaming verbonden zijn en geef dit vorm in jullie intieme relatie.\n\nWil jij jouw partner weer in zijn of haar kracht zetten?\n\n\n\n\nDit is een tweedelige Tantra Workshop waarin het vrouwelijke en het mannelijke gevierd wordt.\nDeel 1 staat in het teken van de Man\, deel 2 in het teken van de Vrouw.\n\n\n\nMet diverse tantrische rituelen en oefeningen neem jij jouw geliefde mee op reis.\nJe bent op dat moment de spaceholder van jullie energie en schenkt hem/haar volledig de aandacht.\n\n\n\n2 diepgaande sessies om jullie verbinding te bekrachtigen.\n\n\n\n\nPRAKTISCH:\nData: zondag 24 & 31 mei\nTijden: 13:30 tot 16:30u\n\n\n\nKosten: €350\,- per stel\nMaximaal 3 stellen\n\n\n\nJullie dragen luchtige kleding of een omslagdoek.\nNaaktheid is optioneel.\n\n\n\nAanmelding:\nVooraf is er een videogesprek ter kennismaking met Nicole.\n\n\n\n\nLees hier meer informatie: https://lustliefdelicht.nl/tantra-tweeluik/\n\n\n\n\nP.s. deze tweeluik is ook in een privé setting te volgen.\nNog geen ervaring? Kijk dan even bij de Tantra Experience.
URL:https://lustliefdelicht.nl/event/when-god-meets-gaia-deel-2/
LOCATION:Leven in Verbinding\, Benkoelenstraat 4\, Enschede\, Overijssel\, 7541XZ\, Netherlands
ATTACH;FMTTYPE=image/jpeg:https://lustliefdelicht.nl/wp-content/uploads/Event-Pic-16-1.jpg
END:VEVENT
BEGIN:VEVENT
DTSTART;TZID=Europe/Paris:20260620T100000
DTEND;TZID=Europe/Paris:20260620T123000
DTSTAMP:20260426T030836
CREATED:20260102T145845Z
LAST-MODIFIED:20260111T080513Z
UID:6940-1781949600-1781958600@lustliefdelicht.nl
SUMMARY:Fire Flow Focus XL | Juni
DESCRIPTION:Levenskracht Training voor Vrouwen\nSpeciale Zomer Editie! \nDe Levenskracht Training om weer ontspannen thuis te komen bij jezelf. \nLees meer informatie via hier en meld je via de mail of whatsapp aan. \nMet licht\, liefde én lust\nNicole
URL:https://lustliefdelicht.nl/event/fire-flow-focus-xl-juni/
LOCATION:Overijssel
ATTACH;FMTTYPE=image/png:https://lustliefdelicht.nl/wp-content/uploads/Event-Pic-6-1.png
END:VEVENT
END:VCALENDAR